BEGIN:VCALENDAR
VERSION:2.0
PRODID:-//Morse Lakes - ECPv6.15.11//NONSGML v1.0//EN
CALSCALE:GREGORIAN
METHOD:PUBLISH
X-ORIGINAL-URL:https://www.morselakes.com
X-WR-CALDESC:Events for Morse Lakes
REFRESH-INTERVAL;VALUE=DURATION:PT1H
X-Robots-Tag:noindex
X-PUBLISHED-TTL:PT1H
BEGIN:VTIMEZONE
TZID:UTC
BEGIN:STANDARD
TZOFFSETFROM:+0000
TZOFFSETTO:+0000
TZNAME:UTC
DTSTART:20210101T000000
END:STANDARD
END:VTIMEZONE
BEGIN:VEVENT
DTSTART;TZID=UTC:20241109T183000
DTEND;TZID=UTC:20241109T223000
DTSTAMP:20260419T203320
CREATED:20241027T164628Z
LAST-MODIFIED:20241027T164628Z
UID:4447-1731177000-1731191400@www.morselakes.com
SUMMARY:Community Game Night
DESCRIPTION:
URL:https://www.morselakes.com/event/community-game-night-3/
LOCATION:Morse Lake Clubhouse
END:VEVENT
BEGIN:VEVENT
DTSTART;TZID=UTC:20241013T163000
DTEND;TZID=UTC:20241013T180000
DTSTAMP:20260419T203320
CREATED:20240919T011456Z
LAST-MODIFIED:20240919T012015Z
UID:4434-1728837000-1728842400@www.morselakes.com
SUMMARY:Semi Annual Meeting
DESCRIPTION:
URL:https://www.morselakes.com/event/september-meeting/
LOCATION:Morse Lake Clubhouse
END:VEVENT
BEGIN:VEVENT
DTSTART;TZID=UTC:20240919T191500
DTEND;TZID=UTC:20240919T211500
DTSTAMP:20260419T203320
CREATED:20240919T012154Z
LAST-MODIFIED:20240919T012154Z
UID:4438-1726773300-1726780500@www.morselakes.com
SUMMARY:September Meeting
DESCRIPTION:
URL:https://www.morselakes.com/event/september-meeting-2/
LOCATION:Morse Lake Clubhouse
END:VEVENT
BEGIN:VEVENT
DTSTART;TZID=UTC:20240824T133000
DTEND;TZID=UTC:20240824T173000
DTSTAMP:20260419T203320
CREATED:20240806T232220Z
LAST-MODIFIED:20240806T232220Z
UID:4420-1724506200-1724520600@www.morselakes.com
SUMMARY:Annual Floatilla
DESCRIPTION:
URL:https://www.morselakes.com/event/annual-floatilla/
LOCATION:Morse Lake Clubhouse
END:VEVENT
BEGIN:VEVENT
DTSTART;TZID=UTC:20240803T173000
DTEND;TZID=UTC:20240803T223000
DTSTAMP:20260419T203320
CREATED:20240722T175700Z
LAST-MODIFIED:20240722T175700Z
UID:4413-1722706200-1722724200@www.morselakes.com
SUMMARY:Annual Lake Party
DESCRIPTION:
URL:https://www.morselakes.com/event/annual-lake-party/
LOCATION:Morse Lake Clubhouse
ORGANIZER;CN="Bonnie Luccio":MAILTO:lakeparty48@gmail.com
END:VEVENT
BEGIN:VEVENT
DTSTART;TZID=UTC:20240725T193000
DTEND;TZID=UTC:20240725T213000
DTSTAMP:20260419T203320
CREATED:20240707T185815Z
LAST-MODIFIED:20240707T185815Z
UID:4410-1721935800-1721943000@www.morselakes.com
SUMMARY:7/25 MLPOA Monthly Meeting
DESCRIPTION:
URL:https://www.morselakes.com/event/7-25-mlpoa-monthly-meeting/
LOCATION:Morse Lake Clubhouse
END:VEVENT
BEGIN:VEVENT
DTSTART;TZID=UTC:20240505T100000
DTEND;TZID=UTC:20240505T120000
DTSTAMP:20260419T203320
CREATED:20240306T013047Z
LAST-MODIFIED:20240306T013047Z
UID:4375-1714903200-1714910400@www.morselakes.com
SUMMARY:Annual Beach Clean Up
DESCRIPTION:
URL:https://www.morselakes.com/event/annual-beach-clean-up-3/
END:VEVENT
BEGIN:VEVENT
DTSTART;TZID=UTC:20240504T100000
DTEND;TZID=UTC:20240504T120000
DTSTAMP:20260419T203320
CREATED:20240306T013012Z
LAST-MODIFIED:20240306T013012Z
UID:4373-1714816800-1714824000@www.morselakes.com
SUMMARY:Annual Beach Clean Up
DESCRIPTION:
URL:https://www.morselakes.com/event/annual-beach-clean-up-2/
END:VEVENT
BEGIN:VEVENT
DTSTART;TZID=UTC:20240414T160000
DTEND;TZID=UTC:20240414T180000
DTSTAMP:20260419T203320
CREATED:20240226T032644Z
LAST-MODIFIED:20240226T032644Z
UID:4367-1713110400-1713117600@www.morselakes.com
SUMMARY:Semi- Annual Meeting
DESCRIPTION:All members welcome to attend
URL:https://www.morselakes.com/event/semi-annual-meeting-6/
LOCATION:Clubhouse
END:VEVENT
BEGIN:VEVENT
DTSTART;TZID=UTC:20240322T160000
DTEND;TZID=UTC:20240322T170000
DTSTAMP:20260419T203320
CREATED:20240306T012803Z
LAST-MODIFIED:20240306T012803Z
UID:4371-1711123200-1711126800@www.morselakes.com
SUMMARY:Fish Stocking
DESCRIPTION:
URL:https://www.morselakes.com/event/fish-stocking/
END:VEVENT
BEGIN:VEVENT
DTSTART;TZID=UTC:20240321T193000
DTEND;TZID=UTC:20240321T213000
DTSTAMP:20260419T203320
CREATED:20240226T032102Z
LAST-MODIFIED:20240226T032439Z
UID:4365-1711049400-1711056600@www.morselakes.com
SUMMARY:March Board Meeting
DESCRIPTION:
URL:https://www.morselakes.com/event/march-board-meeting-2/
LOCATION:Clubhouse
END:VEVENT
BEGIN:VEVENT
DTSTART;TZID=UTC:20231209T180000
DTEND;TZID=UTC:20231209T220000
DTSTAMP:20260419T203320
CREATED:20231116T231751Z
LAST-MODIFIED:20231116T231751Z
UID:4349-1702144800-1702159200@www.morselakes.com
SUMMARY:Community Game Night
DESCRIPTION:
URL:https://www.morselakes.com/event/community-game-night-2/
END:VEVENT
BEGIN:VEVENT
DTSTART;TZID=UTC:20231209T180000
DTEND;TZID=UTC:20231209T220000
DTSTAMP:20260419T203320
CREATED:20231105T235338Z
LAST-MODIFIED:20231105T235338Z
UID:4342-1702144800-1702159200@www.morselakes.com
SUMMARY:Community Game Night
DESCRIPTION:Community Game Night & Fire Pit
URL:https://www.morselakes.com/event/community-game-night/
END:VEVENT
BEGIN:VEVENT
DTSTART;TZID=UTC:20231209T143000
DTEND;TZID=UTC:20231209T163000
DTSTAMP:20260419T203320
CREATED:20231116T231705Z
LAST-MODIFIED:20231116T231705Z
UID:4347-1702132200-1702139400@www.morselakes.com
SUMMARY:Children's Holiday Party
DESCRIPTION:
URL:https://www.morselakes.com/event/childrens-holiday-party-3/
END:VEVENT
BEGIN:VEVENT
DTSTART;TZID=UTC:20231209T143000
DTEND;TZID=UTC:20231209T163000
DTSTAMP:20260419T203320
CREATED:20231105T234920Z
LAST-MODIFIED:20231105T234920Z
UID:4339-1702132200-1702139400@www.morselakes.com
SUMMARY:Annual Holiday Party
DESCRIPTION:Annual Children’s Holiday Party
URL:https://www.morselakes.com/event/annual-holiday-party/
END:VEVENT
BEGIN:VEVENT
DTSTART;TZID=UTC:20231021T140000
DTEND;TZID=UTC:20231021T160000
DTSTAMP:20260419T203320
CREATED:20231001T133021Z
LAST-MODIFIED:20231001T133021Z
UID:4325-1697896800-1697904000@www.morselakes.com
SUMMARY:Morse Lakes Halloween Party
DESCRIPTION:
URL:https://www.morselakes.com/event/morse-lakes-halloween-party/
END:VEVENT
BEGIN:VEVENT
DTSTART;TZID=UTC:20231015T183000
DTEND;TZID=UTC:20231015T203000
DTSTAMP:20260419T203320
CREATED:20231010T230048Z
LAST-MODIFIED:20231010T230048Z
UID:4331-1697394600-1697401800@www.morselakes.com
SUMMARY:Semi-Annual Meeting
DESCRIPTION:
URL:https://www.morselakes.com/event/semi-annual-meeting-5/
END:VEVENT
BEGIN:VEVENT
DTSTART;TZID=UTC:20230611T133000
DTEND;TZID=UTC:20230611T163000
DTSTAMP:20260419T203320
CREATED:20230601T011337Z
LAST-MODIFIED:20230606T220619Z
UID:4297-1686490200-1686501000@www.morselakes.com
SUMMARY:Ice Cream Social Summer Kick Off Event
DESCRIPTION:Untitled presentation (1)
URL:https://www.morselakes.com/event/ice-cream-social-summer-kick-off-event/
END:VEVENT
BEGIN:VEVENT
DTSTART;VALUE=DATE:20230506
DTEND;VALUE=DATE:20230508
DTSTAMP:20260419T203320
CREATED:20230303T005428Z
LAST-MODIFIED:20230303T005428Z
UID:4272-1683331200-1683503999@www.morselakes.com
SUMMARY:Beach Clean Up &  Garden Beautification
DESCRIPTION:
URL:https://www.morselakes.com/event/beach-clean-up-garden-beautification/
END:VEVENT
BEGIN:VEVENT
DTSTART;TZID=UTC:20230416T160000
DTEND;TZID=UTC:20230416T170000
DTSTAMP:20260419T203320
CREATED:20230115T214440Z
LAST-MODIFIED:20230115T214440Z
UID:4260-1681660800-1681664400@www.morselakes.com
SUMMARY:Semi-Annual Meeting
DESCRIPTION:Semi-Annual Lake Meeting \nAll Members Welcome!
URL:https://www.morselakes.com/event/semi-annual-meeting-4/
LOCATION:Morse Lake Clubhouse
END:VEVENT
BEGIN:VEVENT
DTSTART;TZID=UTC:20230412T153000
DTEND;TZID=UTC:20230412T163000
DTSTAMP:20260419T203320
CREATED:20230303T005140Z
LAST-MODIFIED:20230303T005140Z
UID:4269-1681313400-1681317000@www.morselakes.com
SUMMARY:4.12 Trout Stocking
DESCRIPTION:
URL:https://www.morselakes.com/event/4-12-trout-stocking/
END:VEVENT
BEGIN:VEVENT
DTSTART;TZID=UTC:20230330T190000
DTEND;TZID=UTC:20230330T193000
DTSTAMP:20260419T203320
CREATED:20230225T001522Z
LAST-MODIFIED:20230322T230002Z
UID:4263-1680202800-1680204600@www.morselakes.com
SUMMARY:3.30 Yoga Information Session
DESCRIPTION:Everyone is welcome to attend a Yoga information night at the Clubhouse on March 30\, 2023 at 7:00 p.m. The yoga program has been extremely successful and is open to friends and family members as well. Please come to get your questions answered if you are new to yoga and as existing participants\, please come to provide your input for our most exciting season ever! As we enter of our third year\, we are grateful to all of you who attend but look forward to expanding the program this year. The health benefits of yoga will be discussed and our community members will share their experiences. Hope to see you there!
URL:https://www.morselakes.com/event/3-16-yoga-information-session/
END:VEVENT
BEGIN:VEVENT
DTSTART;TZID=UTC:20230126T193000
DTEND;TZID=UTC:20230126T213000
DTSTAMP:20260419T203320
CREATED:20230115T214237Z
LAST-MODIFIED:20230115T214237Z
UID:4258-1674761400-1674768600@www.morselakes.com
SUMMARY:MLPOA January Meeting
DESCRIPTION:Board Meeting \nAll members welcome
URL:https://www.morselakes.com/event/mlpoa-january-meeting/
LOCATION:Clubhouse
END:VEVENT
BEGIN:VEVENT
DTSTART;TZID=UTC:20221210T143000
DTEND;TZID=UTC:20221210T163000
DTSTAMP:20260419T203320
CREATED:20221128T000714Z
LAST-MODIFIED:20221128T000714Z
UID:4251-1670682600-1670689800@www.morselakes.com
SUMMARY:12.10 Annual Kids Holiday Party
DESCRIPTION:
URL:https://www.morselakes.com/event/12-10-annual-kids-holiday-party/
LOCATION:Morse Lake Clubhouse
END:VEVENT
BEGIN:VEVENT
DTSTART;TZID=UTC:20221030T160000
DTEND;TZID=UTC:20221030T173000
DTSTAMP:20260419T203320
CREATED:20220829T041234Z
LAST-MODIFIED:20220831T215144Z
UID:4207-1667145600-1667151000@www.morselakes.com
SUMMARY:Semi-Annual Meeting
DESCRIPTION:All members welcome to attend.
URL:https://www.morselakes.com/event/semi-annual-meeting-3/
LOCATION:Morse Lake Clubhouse
END:VEVENT
BEGIN:VEVENT
DTSTART;TZID=UTC:20221022T143000
DTEND;TZID=UTC:20221022T163000
DTSTAMP:20260419T203320
CREATED:20220831T220752Z
LAST-MODIFIED:20220831T220900Z
UID:4214-1666449000-1666456200@www.morselakes.com
SUMMARY:Annual Children's Halloween Party
DESCRIPTION:
URL:https://www.morselakes.com/event/annual-childrens-halloween-party/
END:VEVENT
BEGIN:VEVENT
DTSTART;TZID=UTC:20221015T140000
DTEND;TZID=UTC:20221015T203000
DTSTAMP:20260419T203320
CREATED:20220926T220737Z
LAST-MODIFIED:20220926T220737Z
UID:4226-1665842400-1665865800@www.morselakes.com
SUMMARY:Free Yoga Session and Game Night
DESCRIPTION:
URL:https://www.morselakes.com/event/free-yoga-session-and-game-night/
END:VEVENT
BEGIN:VEVENT
DTSTART;TZID=UTC:20220928T193000
DTEND;TZID=UTC:20220928T210000
DTSTAMP:20260419T203320
CREATED:20220925T131516Z
LAST-MODIFIED:20220925T131516Z
UID:4223-1664393400-1664398800@www.morselakes.com
SUMMARY:9/28 Board Meeting Rescheduled
DESCRIPTION:
URL:https://www.morselakes.com/event/9-28-board-meeting-rescheduled/
LOCATION:Clubhouse
END:VEVENT
BEGIN:VEVENT
DTSTART;TZID=UTC:20220922T193000
DTEND;TZID=UTC:20220922T210000
DTSTAMP:20260419T203320
CREATED:20220829T041702Z
LAST-MODIFIED:20220829T041713Z
UID:4210-1663875000-1663880400@www.morselakes.com
SUMMARY:Board Meeting
DESCRIPTION: All members welcome to attend.
URL:https://www.morselakes.com/event/board-meeting/
LOCATION:Morse Lake Clubhouse
END:VEVENT
BEGIN:VEVENT
DTSTART;TZID=UTC:20220814T133000
DTEND;TZID=UTC:20220814T193000
DTSTAMP:20260419T203320
CREATED:20220805T201834Z
LAST-MODIFIED:20220805T201834Z
UID:4199-1660483800-1660505400@www.morselakes.com
SUMMARY:8.14 Annual Floatilla
DESCRIPTION:Grab your pool noodle\, raft\, kayak or paddle board and come float! \nClick the link below for more details: \nFloatilla 22
URL:https://www.morselakes.com/event/8-14-annual-floatilla/
END:VEVENT
END:VCALENDAR